BEGIN:VCALENDAR
VERSION:2.0
PRODID:-//CEEI Valencia//EmprenemJunts//ES
BEGIN:VEVENT
UID:Evento_12635
DTSTAMP:20170928T101524Z
DTSTART:20171005T160000Z
DTEND:20171005T173000Z
SUMMARY:\"LA CLAVE PARA ENTENDER, MANEJAR Y ACABAR CON EL ESTRÉS\"
DESCRIPTION:\"Cogiendo tu estrés por los cuernos para tu propio éxito\"
LOCATION:Valencia (Valencia)
URL:https://ceeivalencia.emprenemjunts.es/?op=14&n=12635
GEO:39.476006;-0.370952
END:VEVENT
END:VCALENDAR
