BEGIN:VCALENDAR
VERSION:2.0
PRODID:-//CEEI Valencia//EmprenemJunts//ES
BEGIN:VEVENT
UID:Evento_12626
DTSTAMP:20170926T072840Z
DTSTART:20171020T070000Z
DTEND:20171020T173000Z
SUMMARY:Aprende a gestionar bien tu Tiempo con El Reloj Productivo
DESCRIPTION:Atrévete a Cambiar el reloj por la brújula.
LOCATION:Valencia (Valencia)
URL:https://ceeivalencia.emprenemjunts.es/?op=14&n=12626
END:VEVENT
END:VCALENDAR
