BEGIN:VCALENDAR
VERSION:2.0
PRODID:-//CEEI Valencia//EmprenemJunts//ES
BEGIN:VEVENT
UID:Evento_12488
DTSTAMP:20170904T085513Z
DTSTART:20170914T080000Z
DTEND:20170914T090000Z
SUMMARY:Cómo mejorar el éxito en tus entrevistas de trabajo
DESCRIPTION:
LOCATION:Valencia (Valencia)
URL:https://ceeivalencia.emprenemjunts.es/?op=14&n=12488
GEO:39.467957;-0.380879
END:VEVENT
END:VCALENDAR
