BEGIN:VCALENDAR
VERSION:2.0
PRODID:-//CEEI Alcoy//EmprenemJunts//ES
BEGIN:VEVENT
UID:Evento_12407
DTSTAMP:20170801T102530Z
DTSTART:20171114T113000Z
DTEND:20171114T124500Z
SUMMARY:PLENARIO. Las competencias del trabajador del Siglo XXI
DESCRIPTION:
LOCATION:Alcoi/Alcoy (Alicante)
URL:https://ceeialcoi.emprenemjunts.es/?op=14&n=12407
GEO:38.695156;-0.473517
END:VEVENT
END:VCALENDAR
