BEGIN:VCALENDAR
VERSION:2.0
PRODID:-//CEEI Castellón//EmprenemJunts//ES
BEGIN:VEVENT
UID:Evento_12156
DTSTAMP:20170529T075249Z
DTSTART:20170607T160000Z
DTEND:20170607T180000Z
SUMMARY:V Betabeers CastellÃ³n: BDD (Desarrollo guiado por comportamiento)
DESCRIPTION:
LOCATION:CastellÃ³ de la Plana/CastellÃ³n de la Plana (CastellÃ³n)
URL:https://ceeicastellon.emprenemjunts.es/?op=14&n=12156
END:VEVENT
END:VCALENDAR
