BEGIN:VCALENDAR
VERSION:2.0
PRODID:-//CEEI Valencia//EmprenemJunts//ES
BEGIN:VEVENT
UID:Evento_12122
DTSTAMP:20170519T120017Z
DTSTART:20170601T160000Z
DTEND:20170601T190000Z
SUMMARY:MOV Marketing participa en The Digital Change
DESCRIPTION:El encuentro constará de tres interesantes ponencias sobre SEO, Analítica Web y Usabilidad (UX)
LOCATION:Valencia (Valencia)
URL:https://ceeivalencia.emprenemjunts.es/?op=14&n=12122
END:VEVENT
END:VCALENDAR
