BEGIN:VCALENDAR
VERSION:2.0
PRODID:-//CEEI Castell髇//EmprenemJunts//ES
BEGIN:VEVENT
UID:Evento_12091
DTSTAMP:20170512T114032Z
DTSTART:20170602T140000Z
DTEND:20170602T180000Z
SUMMARY:Conferencias \"La implantaci贸n de la metodolog铆a BIM en modelos constructivos eficientes\"
DESCRIPTION:Primera sesi贸n
LOCATION:Castell贸 de la Plana/Castell贸n de la Plana (Castell贸n)
URL:https://ceeicastellon.emprenemjunts.es/?op=14&n=12091
END:VEVENT
END:VCALENDAR
