BEGIN:VCALENDAR
VERSION:2.0
PRODID:-//CEEI Valencia//EmprenemJunts//ES
BEGIN:VEVENT
UID:Evento_11930
DTSTAMP:20170402T191921Z
DTSTART:20170330T070000Z
DTEND:20170331T120000Z
SUMMARY:III Foro de Innovación Social
DESCRIPTION:Organizan Red Creactiva & Jovesolides
LOCATION:Valencia (Valencia)
URL:https://ceeivalencia.emprenemjunts.es/?op=14&n=11930
END:VEVENT
END:VCALENDAR
