BEGIN:VCALENDAR
VERSION:2.0
PRODID:-//CEEI Castell髇//EmprenemJunts//ES
BEGIN:VEVENT
UID:Evento_11369
DTSTAMP:20161026T180631Z
DTSTART:20161028T090000Z
DTEND:20161028T100000Z
SUMMARY:Networking B2B. Asesoramiento Legal en Empresa Familiar, Compliance y Protecci贸n de Datos
DESCRIPTION:Administraci贸n, Nuevas tecnolog铆as e inform谩tica, 
LOCATION:Castell贸 de la Plana/Castell贸n de la Plana (Castell贸n)
URL:https://ceeicastellon.emprenemjunts.es/?op=14&n=11369
END:VEVENT
END:VCALENDAR
