BEGIN:VCALENDAR
VERSION:2.0
PRODID:-//CEEI Valencia//EmprenemJunts//ES
BEGIN:VEVENT
UID:Evento_11350
DTSTAMP:20161025T084159Z
DTSTART:20161027T170000Z
DTEND:20161027T190000Z
SUMMARY:Una nueva edición de Digital Valencia ya está aquí
DESCRIPTION:Realidad virtual y Startups
LOCATION:Valencia (Valencia)
URL:https://ceeivalencia.emprenemjunts.es/?op=14&n=11350
END:VEVENT
END:VCALENDAR
