BEGIN:VCALENDAR
VERSION:2.0
PRODID:-//CEEI Castellón//EmprenemJunts//ES
BEGIN:VEVENT
UID:Evento_11198
DTSTAMP:20161006T111326Z
DTSTART:20161028T080500Z
DTEND:20161028T090500Z
SUMMARY:Taller 5: \"ExportaÂ… Â¡o exporta!\"
DESCRIPTION:EnrÃ©date CastellÃ³n 2016
LOCATION:CastellÃ³ de la Plana/CastellÃ³n de la Plana (CastellÃ³n)
URL:https://ceeicastellon.emprenemjunts.es/?op=14&n=11198
END:VEVENT
END:VCALENDAR
