BEGIN:VCALENDAR
VERSION:2.0
PRODID:-//CEEI Valencia//EmprenemJunts//ES
BEGIN:VEVENT
UID:Evento_11142
DTSTAMP:20160928T092839Z
DTSTART:20160929T170000Z
DTEND:20160929T183000Z
SUMMARY:La Caña Empresarial - Hablemos de RRHH y Competencias
DESCRIPTION:Conversaciones en torno a la Gestión de Competencias
LOCATION:Valencia (Valencia)
URL:https://ceeivalencia.emprenemjunts.es/?op=14&n=11142
END:VEVENT
END:VCALENDAR
