BEGIN:VCALENDAR
VERSION:2.0
PRODID:-//CEEI Valencia//EmprenemJunts//ES
BEGIN:VEVENT
UID:Evento_10890
DTSTAMP:20160616T114448Z
DTSTART:20160628T170000Z
DTEND:20160628T183000Z
SUMMARY:La SEO y Analista Digital de Hawkers en el segundo encuentro DigitalValencia
DESCRIPTION:El encuentro será el martes 28 de junio, a las 19:00 en la Universitat Politècnica de València.
LOCATION:Valencia
URL:https://ceeivalencia.emprenemjunts.es/?op=14&n=10890
END:VEVENT
END:VCALENDAR
