BEGIN:VCALENDAR
VERSION:2.0
PRODID:-//CEEI Valencia//EmprenemJunts//ES
BEGIN:VEVENT
UID:Evento_1063
DTSTAMP:20100304T111500Z
DTSTART:20100304T111500Z
DTEND:20100304T130000Z
SUMMARY:20ª Presentación de Empresas Innovadoras
DESCRIPTION:
LOCATION:Paterna (Valencia)
URL:https://ceeivalencia.emprenemjunts.es/?op=14&n=1063
END:VEVENT
END:VCALENDAR
