BEGIN:VCALENDAR
VERSION:2.0
PRODID:-//CEEI Valencia//EmprenemJunts//ES
BEGIN:VEVENT
UID:Evento_10609
DTSTAMP:20160503T164013Z
DTSTART:20160511T100000Z
DTEND:20160511T113000Z
SUMMARY:Cómo cuadruplicar las ventas en un año
DESCRIPTION:¿Por qué seguir luchando cuando hay una manera más inteligente de hacer negocios?
LOCATION:ALZIRA
URL:https://ceeivalencia.emprenemjunts.es/?op=14&n=10609
END:VEVENT
END:VCALENDAR
