BEGIN:VCALENDAR
VERSION:2.0
PRODID:-//Management//EmprenemJunts//ES
BEGIN:VEVENT
UID:Evento_10512
DTSTAMP:20160415T111237Z
DTSTART:20160526T170000Z
DTEND:20160526T183000Z
SUMMARY:Presentación de la 4ª Edición del Programa Ejecutivo de Alto Rendimiento Be 10
DESCRIPTION:Te invitamos al único encuentro con Alma
 
LOCATION:VALENCIA
URL:https://management.emprenemjunts.es/?op=14&n=10512
END:VEVENT
END:VCALENDAR
