BEGIN:VCALENDAR
VERSION:2.0
PRODID:-//CEEI Elche//EmprenemJunts//ES
BEGIN:VEVENT
UID:Evento_10245
DTSTAMP:20160301T140528Z
DTSTART:20160317T180000Z
DTEND:20160317T200000Z
SUMMARY:Jornada Alta dirección
DESCRIPTION:Jornada organizada por Jovempa
LOCATION:Elche
URL:https://ceeielche.emprenemjunts.es/?op=14&n=10245
END:VEVENT
END:VCALENDAR
