BEGIN:VCALENDAR
VERSION:2.0
PRODID:-//CEEI Elche//EmprenemJunts//ES
BEGIN:VEVENT
UID:Evento_10240
DTSTAMP:20160229T124208Z
DTSTART:20160310T180000Z
DTEND:20160310T193000Z
SUMMARY:Fondos de inversión: Una opción de inversión para un año de volatilidad
DESCRIPTION:
LOCATION:03203 Elche
URL:https://ceeielche.emprenemjunts.es/?op=14&n=10240
END:VEVENT
END:VCALENDAR
